BEGIN:VCALENDAR
VERSION:2.0
PRODID:-//Tukios.com/
BEGIN:VEVENT
UID:05470492-d80e-41a4-8234-d3f3927bd4cc@www.farmerfuneralchapel.com
DTSTAMP:20260423T233522Z
DTSTART:20260502T170000Z
DTEND:20260502T180000Z
SUMMARY:Memorial Service
DESCRIPTION:
URL:https://www.farmerfuneralchapel.com/obituaries/kathy-jones
LOCATION: 130 9th Ave N  Buhl ID 83316
GEO:42.6006184;-114.759587
END:VEVENT
END:VCALENDAR